BEGIN:VCALENDAR
VERSION:2.0
PRODID:-//wp-events-plugin.com//7.2.3.1//EN
TZID:America/New_York
X-WR-TIMEZONE:America/New_York
BEGIN:VEVENT
UID:9@patriciaflahertypagan.com
DTSTART;TZID=America/New_York:20260320T190000
DTEND;TZID=America/New_York:20260320T220000
DTSTAMP:20260316T151143Z
URL:https://patriciaflahertypagan.com/upcoming-events/pulp-lit-bazaar-in-s
 alem/
SUMMARY:Pulp Lit Bazaar in Salem
DESCRIPTION:\n\nExcited that New England Horror Writers will be offering si
 gned copies of my collections Specters and Spells and Eve's Requiem  duri
 ng this rad event featuring local writers\, artists\, musicians\, and brew
 ers!
END:VEVENT
BEGIN:VTIMEZONE
TZID:America/New_York
X-LIC-LOCATION:America/New_York
BEGIN:DAYLIGHT
DTSTART:20260308T030000
TZOFFSETFROM:-0500
TZOFFSETTO:-0400
TZNAME:EDT
END:DAYLIGHT
END:VTIMEZONE
END:VCALENDAR